BEGIN:VCALENDAR
VERSION:2.0
PRODID:-//Ladysmith Chamber of Commerce - ECPv6.15.20//NONSGML v1.0//EN
CALSCALE:GREGORIAN
METHOD:PUBLISH
X-ORIGINAL-URL:https://www.ladysmithcofc.com
X-WR-CALDESC:Events for Ladysmith Chamber of Commerce
REFRESH-INTERVAL;VALUE=DURATION:PT1H
X-Robots-Tag:noindex
X-PUBLISHED-TTL:PT1H
BEGIN:VTIMEZONE
TZID:UTC
BEGIN:STANDARD
TZOFFSETFROM:+0000
TZOFFSETTO:+0000
TZNAME:UTC
DTSTART:20170101T000000
END:STANDARD
END:VTIMEZONE
BEGIN:VEVENT
DTSTART;TZID=UTC:20181228T193000
DTEND;TZID=UTC:20181228T230000
DTSTAMP:20260424T015354
CREATED:20181101T051315Z
LAST-MODIFIED:20181101T051315Z
UID:10008658-1546025400-1546038000@www.ladysmithcofc.com
SUMMARY:Riot Brewing Live Music with Fanfare
DESCRIPTION:
URL:https://www.ladysmithcofc.com/events/riot-brewing-live-music-with-fanfare/2018-12-28/
LOCATION:riot brewing\, 101-3055 Oak Street\, Chemainus\, BC\, V0R 1K1\, Canada
GEO:48.9255702;-123.7272438
X-APPLE-STRUCTURED-LOCATION;VALUE=URI;X-ADDRESS=riot brewing 101-3055 Oak Street Chemainus BC V0R 1K1 Canada;X-APPLE-RADIUS=500;X-TITLE=101-3055 Oak Street:geo:-123.7272438,48.9255702
END:VEVENT
BEGIN:VEVENT
DTSTART;TZID=UTC:20181230T090000
DTEND;TZID=UTC:20181230T120000
DTSTAMP:20260424T015354
CREATED:20180213T010840Z
LAST-MODIFIED:20180213T011509Z
UID:10007981-1546160400-1546171200@www.ladysmithcofc.com
SUMMARY:RCL Branch 171 Breakfast
DESCRIPTION:
URL:https://www.ladysmithcofc.com/events/rcl-branch-171-breakfast-2/2018-12-30/
LOCATION:Royal Canadian Legion Branch 171\, 621 1st Avenue\, Ladysmith\, BC\, V9G1A2 \, Canada
GEO:48.9939584;-123.8183731
X-APPLE-STRUCTURED-LOCATION;VALUE=URI;X-ADDRESS=Royal Canadian Legion Branch 171 621 1st Avenue Ladysmith BC V9G1A2  Canada;X-APPLE-RADIUS=500;X-TITLE=621 1st Avenue:geo:-123.8183731,48.9939584
END:VEVENT
BEGIN:VEVENT
DTSTART;TZID=UTC:20181231T190000
DTEND;TZID=UTC:20190101T010000
DTSTAMP:20260424T015354
CREATED:20181116T060229Z
LAST-MODIFIED:20181116T060229Z
UID:10008691-1546282800-1546304400@www.ladysmithcofc.com
SUMMARY:Cottonwood New Years Eve Dinner & Dance
DESCRIPTION:
URL:https://www.ladysmithcofc.com/events/cottonwood-new-years-eve-dinner-dance/
LOCATION:Cottonwood Golf Course\, 1975 Haslam Road\, Nanaimo\, British Columbia\, Canada
END:VEVENT
BEGIN:VEVENT
DTSTART;TZID=UTC:20181231T200000
DTEND;TZID=UTC:20181231T235900
DTSTAMP:20260424T015354
CREATED:20181212T073229Z
LAST-MODIFIED:20181212T073229Z
UID:10008175-1546286400-1546300740@www.ladysmithcofc.com
SUMMARY:Riot Brewing New Years Eve
DESCRIPTION:Monday December 31\, 8pm is New Years Eve with the Grinning Barretts and special guests. No Cover.
URL:https://www.ladysmithcofc.com/events/riot-brewing-new-years-eve/
LOCATION:riot brewing\, 101-3055 Oak Street\, Chemainus\, BC\, V0R 1K1\, Canada
GEO:48.9255702;-123.7272438
X-APPLE-STRUCTURED-LOCATION;VALUE=URI;X-ADDRESS=riot brewing 101-3055 Oak Street Chemainus BC V0R 1K1 Canada;X-APPLE-RADIUS=500;X-TITLE=101-3055 Oak Street:geo:-123.7272438,48.9255702
END:VEVENT
BEGIN:VEVENT
DTSTART;TZID=UTC:20181231T200000
DTEND;TZID=UTC:20190101T010000
DTSTAMP:20260424T015354
CREATED:20181208T021215Z
LAST-MODIFIED:20181208T021215Z
UID:10008166-1546286400-1546304400@www.ladysmithcofc.com
SUMMARY:RCL Branch 171 New Year's Eve Dance
DESCRIPTION:
URL:https://www.ladysmithcofc.com/events/rcl-branch-171-new-years-eve-dance/
LOCATION:Aggie Hall
END:VEVENT
END:VCALENDAR