BEGIN:VCALENDAR
VERSION:2.0
PRODID:-//Ladysmith Chamber of Commerce - ECPv6.15.20//NONSGML v1.0//EN
CALSCALE:GREGORIAN
METHOD:PUBLISH
X-WR-CALNAME:Ladysmith Chamber of Commerce
X-ORIGINAL-URL:https://www.ladysmithcofc.com
X-WR-CALDESC:Events for Ladysmith Chamber of Commerce
REFRESH-INTERVAL;VALUE=DURATION:PT1H
X-Robots-Tag:noindex
X-PUBLISHED-TTL:PT1H
BEGIN:VTIMEZONE
TZID:America/Vancouver
BEGIN:DAYLIGHT
TZOFFSETFROM:-0800
TZOFFSETTO:-0700
TZNAME:PDT
DTSTART:20220313T100000
END:DAYLIGHT
BEGIN:STANDARD
TZOFFSETFROM:-0700
TZOFFSETTO:-0800
TZNAME:PST
DTSTART:20221106T090000
END:STANDARD
BEGIN:DAYLIGHT
TZOFFSETFROM:-0800
TZOFFSETTO:-0700
TZNAME:PDT
DTSTART:20230312T100000
END:DAYLIGHT
BEGIN:STANDARD
TZOFFSETFROM:-0700
TZOFFSETTO:-0800
TZNAME:PST
DTSTART:20231105T090000
END:STANDARD
BEGIN:DAYLIGHT
TZOFFSETFROM:-0800
TZOFFSETTO:-0700
TZNAME:PDT
DTSTART:20240310T100000
END:DAYLIGHT
BEGIN:STANDARD
TZOFFSETFROM:-0700
TZOFFSETTO:-0800
TZNAME:PST
DTSTART:20241103T090000
END:STANDARD
END:VTIMEZONE
BEGIN:VTIMEZONE
TZID:UTC
BEGIN:STANDARD
TZOFFSETFROM:+0000
TZOFFSETTO:+0000
TZNAME:UTC
DTSTART:20220101T000000
END:STANDARD
END:VTIMEZONE
BEGIN:VEVENT
DTSTART;TZID=America/Vancouver:20231013T080000
DTEND;TZID=America/Vancouver:20231013T170000
DTSTAMP:20260425T051305
CREATED:20230711T185512Z
LAST-MODIFIED:20230907T213704Z
UID:10014281-1697184000-1697216400@www.ladysmithcofc.com
SUMMARY:'Kiss the Moon\, Kiss the Sun' Production | Ladysmith Little Theatre
DESCRIPTION:Kiss the Moon\, Kiss the Sun\nWritten by Norm Foster\nDirected by Josee Duffhues\n  \nOct 12 – 29\, 2023\n  \n“Every life is challenged and that’s certainly the case in Kiss the Moon\, Kiss the Sun.”\nRobert\, a 35-year old man with the mental capacity of a child\, meets Holly\, in crisis\, pregnant and alone. These two form a surprising bond\, and the eventual result is an unexpected family. Yes\, life is messy and chaotic and funny and beautiful and more than a little terrifying. So much happens by chance\, sometimes at a bus stop. \nWritten by the prolific Norm Foster\, one of Canada’s most performed playwrights\, we encounter a story layered with relevance and meaning for everyone. A perfect blend of drama and comedy\, it’s a universal story about relationships born of hardship. We find ourselves connecting to characters surprised to discover that they have the strength and nerve to take responsibility for each other and persevere against truly difficult odds. And we’re reminded that sometimes goodbye is just a new beginning. \nTickets available August 1\, 2023
URL:https://www.ladysmithcofc.com/events/kiss-the-moon-kiss-the-sun-production-ladysmith-little-theatre/2023-10-13/
END:VEVENT
BEGIN:VEVENT
DTSTART;TZID=America/Vancouver:20231014T080000
DTEND;TZID=America/Vancouver:20231014T170000
DTSTAMP:20260425T051305
CREATED:20230711T185512Z
LAST-MODIFIED:20230907T213704Z
UID:10014282-1697270400-1697302800@www.ladysmithcofc.com
SUMMARY:'Kiss the Moon\, Kiss the Sun' Production | Ladysmith Little Theatre
DESCRIPTION:Kiss the Moon\, Kiss the Sun\nWritten by Norm Foster\nDirected by Josee Duffhues\n  \nOct 12 – 29\, 2023\n  \n“Every life is challenged and that’s certainly the case in Kiss the Moon\, Kiss the Sun.”\nRobert\, a 35-year old man with the mental capacity of a child\, meets Holly\, in crisis\, pregnant and alone. These two form a surprising bond\, and the eventual result is an unexpected family. Yes\, life is messy and chaotic and funny and beautiful and more than a little terrifying. So much happens by chance\, sometimes at a bus stop. \nWritten by the prolific Norm Foster\, one of Canada’s most performed playwrights\, we encounter a story layered with relevance and meaning for everyone. A perfect blend of drama and comedy\, it’s a universal story about relationships born of hardship. We find ourselves connecting to characters surprised to discover that they have the strength and nerve to take responsibility for each other and persevere against truly difficult odds. And we’re reminded that sometimes goodbye is just a new beginning. \nTickets available August 1\, 2023
URL:https://www.ladysmithcofc.com/events/kiss-the-moon-kiss-the-sun-production-ladysmith-little-theatre/2023-10-14/
END:VEVENT
BEGIN:VEVENT
DTSTART;TZID=America/Vancouver:20231014T100000
DTEND;TZID=America/Vancouver:20231014T140000
DTSTAMP:20260425T051305
CREATED:20231010T221635Z
LAST-MODIFIED:20231010T221635Z
UID:10014334-1697277600-1697292000@www.ladysmithcofc.com
SUMMARY:Ladysmith Rotary Bottle Drive & Garage Sale
DESCRIPTION:There will also be a garage sale by Rotarians and the proceeds will also be used for Youth Programs in Ladysmith.
URL:https://www.ladysmithcofc.com/events/ladysmith-rotary-bottle-drive-garage-sale/
END:VEVENT
BEGIN:VEVENT
DTSTART;TZID=America/Vancouver:20231014T100000
DTEND;TZID=America/Vancouver:20231014T170000
DTSTAMP:20260425T051305
CREATED:20230928T172153Z
LAST-MODIFIED:20230928T172153Z
UID:10014323-1697277600-1697302800@www.ladysmithcofc.com
SUMMARY:Ladysmith Gallery: Art Pop-Ups
DESCRIPTION:
URL:https://www.ladysmithcofc.com/events/ladysmith-gallery-art-pop-ups/2023-10-14/
END:VEVENT
BEGIN:VEVENT
DTSTART;TZID=America/Vancouver:20231015T080000
DTEND;TZID=America/Vancouver:20231015T170000
DTSTAMP:20260425T051305
CREATED:20230711T185512Z
LAST-MODIFIED:20230907T213704Z
UID:10014283-1697356800-1697389200@www.ladysmithcofc.com
SUMMARY:'Kiss the Moon\, Kiss the Sun' Production | Ladysmith Little Theatre
DESCRIPTION:Kiss the Moon\, Kiss the Sun\nWritten by Norm Foster\nDirected by Josee Duffhues\n  \nOct 12 – 29\, 2023\n  \n“Every life is challenged and that’s certainly the case in Kiss the Moon\, Kiss the Sun.”\nRobert\, a 35-year old man with the mental capacity of a child\, meets Holly\, in crisis\, pregnant and alone. These two form a surprising bond\, and the eventual result is an unexpected family. Yes\, life is messy and chaotic and funny and beautiful and more than a little terrifying. So much happens by chance\, sometimes at a bus stop. \nWritten by the prolific Norm Foster\, one of Canada’s most performed playwrights\, we encounter a story layered with relevance and meaning for everyone. A perfect blend of drama and comedy\, it’s a universal story about relationships born of hardship. We find ourselves connecting to characters surprised to discover that they have the strength and nerve to take responsibility for each other and persevere against truly difficult odds. And we’re reminded that sometimes goodbye is just a new beginning. \nTickets available August 1\, 2023
URL:https://www.ladysmithcofc.com/events/kiss-the-moon-kiss-the-sun-production-ladysmith-little-theatre/2023-10-15/
END:VEVENT
BEGIN:VEVENT
DTSTART;TZID=America/Vancouver:20231018T120000
DTEND;TZID=America/Vancouver:20231018T190000
DTSTAMP:20260425T051305
CREATED:20230901T185953Z
LAST-MODIFIED:20230901T185953Z
UID:10013451-1697630400-1697655600@www.ladysmithcofc.com
SUMMARY:Ladysmith Blood Donation Event
DESCRIPTION: NEW DONORS NEEDED! \nSave a life by coming to donate blood at the Bethel Church on October 18 (Wednesday)m 12:00PM – 6:45 PM. There are many opening that still need to be filled\, so help spread the word! Book your appointment at blood.ca\, by downloading our Giveblood app or call 1-888-236-6283 (1-888-2DONATE) \nIf you miss them this time around\, they will be back in January.
URL:https://www.ladysmithcofc.com/events/ladysmith-blood-donation-event-9/
LOCATION:Bethel Church\, 1149\, 4th ave\, Ladysmith\, British Columbia\, Canada
END:VEVENT
BEGIN:VEVENT
DTSTART;TZID=America/Vancouver:20231019T080000
DTEND;TZID=America/Vancouver:20231019T170000
DTSTAMP:20260425T051305
CREATED:20230711T185512Z
LAST-MODIFIED:20230907T213704Z
UID:10014284-1697702400-1697734800@www.ladysmithcofc.com
SUMMARY:'Kiss the Moon\, Kiss the Sun' Production | Ladysmith Little Theatre
DESCRIPTION:Kiss the Moon\, Kiss the Sun\nWritten by Norm Foster\nDirected by Josee Duffhues\n  \nOct 12 – 29\, 2023\n  \n“Every life is challenged and that’s certainly the case in Kiss the Moon\, Kiss the Sun.”\nRobert\, a 35-year old man with the mental capacity of a child\, meets Holly\, in crisis\, pregnant and alone. These two form a surprising bond\, and the eventual result is an unexpected family. Yes\, life is messy and chaotic and funny and beautiful and more than a little terrifying. So much happens by chance\, sometimes at a bus stop. \nWritten by the prolific Norm Foster\, one of Canada’s most performed playwrights\, we encounter a story layered with relevance and meaning for everyone. A perfect blend of drama and comedy\, it’s a universal story about relationships born of hardship. We find ourselves connecting to characters surprised to discover that they have the strength and nerve to take responsibility for each other and persevere against truly difficult odds. And we’re reminded that sometimes goodbye is just a new beginning. \nTickets available August 1\, 2023
URL:https://www.ladysmithcofc.com/events/kiss-the-moon-kiss-the-sun-production-ladysmith-little-theatre/2023-10-19/
END:VEVENT
BEGIN:VEVENT
DTSTART;TZID=America/Vancouver:20231020T080000
DTEND;TZID=America/Vancouver:20231020T170000
DTSTAMP:20260425T051305
CREATED:20230711T185512Z
LAST-MODIFIED:20230907T213704Z
UID:10014285-1697788800-1697821200@www.ladysmithcofc.com
SUMMARY:'Kiss the Moon\, Kiss the Sun' Production | Ladysmith Little Theatre
DESCRIPTION:Kiss the Moon\, Kiss the Sun\nWritten by Norm Foster\nDirected by Josee Duffhues\n  \nOct 12 – 29\, 2023\n  \n“Every life is challenged and that’s certainly the case in Kiss the Moon\, Kiss the Sun.”\nRobert\, a 35-year old man with the mental capacity of a child\, meets Holly\, in crisis\, pregnant and alone. These two form a surprising bond\, and the eventual result is an unexpected family. Yes\, life is messy and chaotic and funny and beautiful and more than a little terrifying. So much happens by chance\, sometimes at a bus stop. \nWritten by the prolific Norm Foster\, one of Canada’s most performed playwrights\, we encounter a story layered with relevance and meaning for everyone. A perfect blend of drama and comedy\, it’s a universal story about relationships born of hardship. We find ourselves connecting to characters surprised to discover that they have the strength and nerve to take responsibility for each other and persevere against truly difficult odds. And we’re reminded that sometimes goodbye is just a new beginning. \nTickets available August 1\, 2023
URL:https://www.ladysmithcofc.com/events/kiss-the-moon-kiss-the-sun-production-ladysmith-little-theatre/2023-10-20/
END:VEVENT
BEGIN:VEVENT
DTSTART;TZID=America/Vancouver:20231021T080000
DTEND;TZID=America/Vancouver:20231021T170000
DTSTAMP:20260425T051305
CREATED:20230711T185512Z
LAST-MODIFIED:20230907T213704Z
UID:10014286-1697875200-1697907600@www.ladysmithcofc.com
SUMMARY:'Kiss the Moon\, Kiss the Sun' Production | Ladysmith Little Theatre
DESCRIPTION:Kiss the Moon\, Kiss the Sun\nWritten by Norm Foster\nDirected by Josee Duffhues\n  \nOct 12 – 29\, 2023\n  \n“Every life is challenged and that’s certainly the case in Kiss the Moon\, Kiss the Sun.”\nRobert\, a 35-year old man with the mental capacity of a child\, meets Holly\, in crisis\, pregnant and alone. These two form a surprising bond\, and the eventual result is an unexpected family. Yes\, life is messy and chaotic and funny and beautiful and more than a little terrifying. So much happens by chance\, sometimes at a bus stop. \nWritten by the prolific Norm Foster\, one of Canada’s most performed playwrights\, we encounter a story layered with relevance and meaning for everyone. A perfect blend of drama and comedy\, it’s a universal story about relationships born of hardship. We find ourselves connecting to characters surprised to discover that they have the strength and nerve to take responsibility for each other and persevere against truly difficult odds. And we’re reminded that sometimes goodbye is just a new beginning. \nTickets available August 1\, 2023
URL:https://www.ladysmithcofc.com/events/kiss-the-moon-kiss-the-sun-production-ladysmith-little-theatre/2023-10-21/
END:VEVENT
BEGIN:VEVENT
DTSTART;TZID=America/Vancouver:20231022T080000
DTEND;TZID=America/Vancouver:20231022T170000
DTSTAMP:20260425T051305
CREATED:20230711T185512Z
LAST-MODIFIED:20230907T213704Z
UID:10014287-1697961600-1697994000@www.ladysmithcofc.com
SUMMARY:'Kiss the Moon\, Kiss the Sun' Production | Ladysmith Little Theatre
DESCRIPTION:Kiss the Moon\, Kiss the Sun\nWritten by Norm Foster\nDirected by Josee Duffhues\n  \nOct 12 – 29\, 2023\n  \n“Every life is challenged and that’s certainly the case in Kiss the Moon\, Kiss the Sun.”\nRobert\, a 35-year old man with the mental capacity of a child\, meets Holly\, in crisis\, pregnant and alone. These two form a surprising bond\, and the eventual result is an unexpected family. Yes\, life is messy and chaotic and funny and beautiful and more than a little terrifying. So much happens by chance\, sometimes at a bus stop. \nWritten by the prolific Norm Foster\, one of Canada’s most performed playwrights\, we encounter a story layered with relevance and meaning for everyone. A perfect blend of drama and comedy\, it’s a universal story about relationships born of hardship. We find ourselves connecting to characters surprised to discover that they have the strength and nerve to take responsibility for each other and persevere against truly difficult odds. And we’re reminded that sometimes goodbye is just a new beginning. \nTickets available August 1\, 2023
URL:https://www.ladysmithcofc.com/events/kiss-the-moon-kiss-the-sun-production-ladysmith-little-theatre/2023-10-22/
END:VEVENT
BEGIN:VEVENT
DTSTART;TZID=America/Vancouver:20231026T080000
DTEND;TZID=America/Vancouver:20231026T170000
DTSTAMP:20260425T051305
CREATED:20230711T185512Z
LAST-MODIFIED:20230907T213704Z
UID:10014288-1698307200-1698339600@www.ladysmithcofc.com
SUMMARY:'Kiss the Moon\, Kiss the Sun' Production | Ladysmith Little Theatre
DESCRIPTION:Kiss the Moon\, Kiss the Sun\nWritten by Norm Foster\nDirected by Josee Duffhues\n  \nOct 12 – 29\, 2023\n  \n“Every life is challenged and that’s certainly the case in Kiss the Moon\, Kiss the Sun.”\nRobert\, a 35-year old man with the mental capacity of a child\, meets Holly\, in crisis\, pregnant and alone. These two form a surprising bond\, and the eventual result is an unexpected family. Yes\, life is messy and chaotic and funny and beautiful and more than a little terrifying. So much happens by chance\, sometimes at a bus stop. \nWritten by the prolific Norm Foster\, one of Canada’s most performed playwrights\, we encounter a story layered with relevance and meaning for everyone. A perfect blend of drama and comedy\, it’s a universal story about relationships born of hardship. We find ourselves connecting to characters surprised to discover that they have the strength and nerve to take responsibility for each other and persevere against truly difficult odds. And we’re reminded that sometimes goodbye is just a new beginning. \nTickets available August 1\, 2023
URL:https://www.ladysmithcofc.com/events/kiss-the-moon-kiss-the-sun-production-ladysmith-little-theatre/2023-10-26/
END:VEVENT
BEGIN:VEVENT
DTSTART;TZID=America/Vancouver:20231027T080000
DTEND;TZID=America/Vancouver:20231027T170000
DTSTAMP:20260425T051305
CREATED:20230711T185512Z
LAST-MODIFIED:20230907T213704Z
UID:10014289-1698393600-1698426000@www.ladysmithcofc.com
SUMMARY:'Kiss the Moon\, Kiss the Sun' Production | Ladysmith Little Theatre
DESCRIPTION:Kiss the Moon\, Kiss the Sun\nWritten by Norm Foster\nDirected by Josee Duffhues\n  \nOct 12 – 29\, 2023\n  \n“Every life is challenged and that’s certainly the case in Kiss the Moon\, Kiss the Sun.”\nRobert\, a 35-year old man with the mental capacity of a child\, meets Holly\, in crisis\, pregnant and alone. These two form a surprising bond\, and the eventual result is an unexpected family. Yes\, life is messy and chaotic and funny and beautiful and more than a little terrifying. So much happens by chance\, sometimes at a bus stop. \nWritten by the prolific Norm Foster\, one of Canada’s most performed playwrights\, we encounter a story layered with relevance and meaning for everyone. A perfect blend of drama and comedy\, it’s a universal story about relationships born of hardship. We find ourselves connecting to characters surprised to discover that they have the strength and nerve to take responsibility for each other and persevere against truly difficult odds. And we’re reminded that sometimes goodbye is just a new beginning. \nTickets available August 1\, 2023
URL:https://www.ladysmithcofc.com/events/kiss-the-moon-kiss-the-sun-production-ladysmith-little-theatre/2023-10-27/
END:VEVENT
BEGIN:VEVENT
DTSTART;TZID=America/Vancouver:20231027T190000
DTEND;TZID=America/Vancouver:20231027T210000
DTSTAMP:20260425T051305
CREATED:20231010T221751Z
LAST-MODIFIED:20231017T172038Z
UID:10014335-1698433200-1698440400@www.ladysmithcofc.com
SUMMARY:Country Maples RV Resort Halloween Haunted House
DESCRIPTION:Cash Only
URL:https://www.ladysmithcofc.com/events/country-maples-rv-resort-halloween-haunted-house/2023-10-27/
END:VEVENT
BEGIN:VEVENT
DTSTART;TZID=America/Vancouver:20231028T080000
DTEND;TZID=America/Vancouver:20231028T170000
DTSTAMP:20260425T051305
CREATED:20230711T185512Z
LAST-MODIFIED:20230907T213704Z
UID:10014290-1698480000-1698512400@www.ladysmithcofc.com
SUMMARY:'Kiss the Moon\, Kiss the Sun' Production | Ladysmith Little Theatre
DESCRIPTION:Kiss the Moon\, Kiss the Sun\nWritten by Norm Foster\nDirected by Josee Duffhues\n  \nOct 12 – 29\, 2023\n  \n“Every life is challenged and that’s certainly the case in Kiss the Moon\, Kiss the Sun.”\nRobert\, a 35-year old man with the mental capacity of a child\, meets Holly\, in crisis\, pregnant and alone. These two form a surprising bond\, and the eventual result is an unexpected family. Yes\, life is messy and chaotic and funny and beautiful and more than a little terrifying. So much happens by chance\, sometimes at a bus stop. \nWritten by the prolific Norm Foster\, one of Canada’s most performed playwrights\, we encounter a story layered with relevance and meaning for everyone. A perfect blend of drama and comedy\, it’s a universal story about relationships born of hardship. We find ourselves connecting to characters surprised to discover that they have the strength and nerve to take responsibility for each other and persevere against truly difficult odds. And we’re reminded that sometimes goodbye is just a new beginning. \nTickets available August 1\, 2023
URL:https://www.ladysmithcofc.com/events/kiss-the-moon-kiss-the-sun-production-ladysmith-little-theatre/2023-10-28/
END:VEVENT
BEGIN:VEVENT
DTSTART;TZID=America/Vancouver:20231028T190000
DTEND;TZID=America/Vancouver:20231028T210000
DTSTAMP:20260425T051305
CREATED:20231010T221751Z
LAST-MODIFIED:20231017T172038Z
UID:10014336-1698519600-1698526800@www.ladysmithcofc.com
SUMMARY:Country Maples RV Resort Halloween Haunted House
DESCRIPTION:Cash Only
URL:https://www.ladysmithcofc.com/events/country-maples-rv-resort-halloween-haunted-house/2023-10-28/
END:VEVENT
BEGIN:VEVENT
DTSTART;TZID=America/Vancouver:20231029T080000
DTEND;TZID=America/Vancouver:20231029T170000
DTSTAMP:20260425T051305
CREATED:20230711T185512Z
LAST-MODIFIED:20230907T213704Z
UID:10014291-1698566400-1698598800@www.ladysmithcofc.com
SUMMARY:'Kiss the Moon\, Kiss the Sun' Production | Ladysmith Little Theatre
DESCRIPTION:Kiss the Moon\, Kiss the Sun\nWritten by Norm Foster\nDirected by Josee Duffhues\n  \nOct 12 – 29\, 2023\n  \n“Every life is challenged and that’s certainly the case in Kiss the Moon\, Kiss the Sun.”\nRobert\, a 35-year old man with the mental capacity of a child\, meets Holly\, in crisis\, pregnant and alone. These two form a surprising bond\, and the eventual result is an unexpected family. Yes\, life is messy and chaotic and funny and beautiful and more than a little terrifying. So much happens by chance\, sometimes at a bus stop. \nWritten by the prolific Norm Foster\, one of Canada’s most performed playwrights\, we encounter a story layered with relevance and meaning for everyone. A perfect blend of drama and comedy\, it’s a universal story about relationships born of hardship. We find ourselves connecting to characters surprised to discover that they have the strength and nerve to take responsibility for each other and persevere against truly difficult odds. And we’re reminded that sometimes goodbye is just a new beginning. \nTickets available August 1\, 2023
URL:https://www.ladysmithcofc.com/events/kiss-the-moon-kiss-the-sun-production-ladysmith-little-theatre/2023-10-29/
END:VEVENT
BEGIN:VEVENT
DTSTART;TZID=UTC:20231029T090000
DTEND;TZID=UTC:20231029T120000
DTSTAMP:20260425T051305
CREATED:20180213T010840Z
LAST-MODIFIED:20180213T011509Z
UID:10008039-1698570000-1698580800@www.ladysmithcofc.com
SUMMARY:RCL Branch 171 Breakfast
DESCRIPTION:
URL:https://www.ladysmithcofc.com/events/rcl-branch-171-breakfast-2/2023-10-29/
LOCATION:Royal Canadian Legion Branch 171\, 621 1st Avenue\, Ladysmith\, BC\, V9G1A2 \, Canada
GEO:48.9939584;-123.8183731
X-APPLE-STRUCTURED-LOCATION;VALUE=URI;X-ADDRESS=Royal Canadian Legion Branch 171 621 1st Avenue Ladysmith BC V9G1A2  Canada;X-APPLE-RADIUS=500;X-TITLE=621 1st Avenue:geo:-123.8183731,48.9939584
END:VEVENT
END:VCALENDAR