BEGIN:VCALENDAR
VERSION:2.0
PRODID:-//Ladysmith Chamber of Commerce - ECPv6.15.20//NONSGML v1.0//EN
CALSCALE:GREGORIAN
METHOD:PUBLISH
X-WR-CALNAME:Ladysmith Chamber of Commerce
X-ORIGINAL-URL:https://www.ladysmithcofc.com
X-WR-CALDESC:Events for Ladysmith Chamber of Commerce
REFRESH-INTERVAL;VALUE=DURATION:PT1H
X-Robots-Tag:noindex
X-PUBLISHED-TTL:PT1H
BEGIN:VTIMEZONE
TZID:America/Vancouver
BEGIN:DAYLIGHT
TZOFFSETFROM:-0800
TZOFFSETTO:-0700
TZNAME:PDT
DTSTART:20230312T100000
END:DAYLIGHT
BEGIN:STANDARD
TZOFFSETFROM:-0700
TZOFFSETTO:-0800
TZNAME:PST
DTSTART:20231105T090000
END:STANDARD
BEGIN:DAYLIGHT
TZOFFSETFROM:-0800
TZOFFSETTO:-0700
TZNAME:PDT
DTSTART:20240310T100000
END:DAYLIGHT
BEGIN:STANDARD
TZOFFSETFROM:-0700
TZOFFSETTO:-0800
TZNAME:PST
DTSTART:20241103T090000
END:STANDARD
BEGIN:DAYLIGHT
TZOFFSETFROM:-0800
TZOFFSETTO:-0700
TZNAME:PDT
DTSTART:20250309T100000
END:DAYLIGHT
BEGIN:STANDARD
TZOFFSETFROM:-0700
TZOFFSETTO:-0800
TZNAME:PST
DTSTART:20251102T090000
END:STANDARD
BEGIN:DAYLIGHT
TZOFFSETFROM:-0800
TZOFFSETTO:-0700
TZNAME:PDT
DTSTART:20260308T100000
END:DAYLIGHT
BEGIN:STANDARD
TZOFFSETFROM:-0700
TZOFFSETTO:-0800
TZNAME:PST
DTSTART:20261101T090000
END:STANDARD
BEGIN:DAYLIGHT
TZOFFSETFROM:-0800
TZOFFSETTO:-0700
TZNAME:PDT
DTSTART:20270314T100000
END:DAYLIGHT
BEGIN:STANDARD
TZOFFSETFROM:-0700
TZOFFSETTO:-0800
TZNAME:PST
DTSTART:20271107T090000
END:STANDARD
BEGIN:DAYLIGHT
TZOFFSETFROM:-0800
TZOFFSETTO:-0700
TZNAME:PDT
DTSTART:20280312T100000
END:DAYLIGHT
BEGIN:STANDARD
TZOFFSETFROM:-0700
TZOFFSETTO:-0800
TZNAME:PST
DTSTART:20281105T090000
END:STANDARD
END:VTIMEZONE
BEGIN:VEVENT
DTSTART;VALUE=DATE:20240501
DTEND;VALUE=DATE:20270502
DTSTAMP:20260424T031155
CREATED:20240501T173908Z
LAST-MODIFIED:20250401T190646Z
UID:10014430-1714521600-1809215999@www.ladysmithcofc.com
SUMMARY:Other Community Event & Theatre Calendars
DESCRIPTION:OTHER COMMUNITY EVENT & THEATRE CALENDARS
URL:https://www.ladysmithcofc.com/events/other-community-event-theatre-calendars/2024-05-01/
LOCATION:BC
END:VEVENT
BEGIN:VEVENT
DTSTART;VALUE=DATE:20260423
DTEND;VALUE=DATE:20260511
DTSTAMP:20260424T031155
CREATED:20260112T185627Z
LAST-MODIFIED:20260112T185627Z
UID:10014859-1776902400-1778457599@www.ladysmithcofc.com
SUMMARY:Ladysmith Little Theatre presents "A Prelude to a Kiss"
DESCRIPTION:PRELUDE TO A KISS\nWritten by Craig Lucas\nDirected by Judy Powers\n\nApril 23-May 10\, 2026\n  \nEnamored lovers Peter and Rita immediately fall for each other\, and on their wedding day\, a mysterious old man insists on kissing the bride. While honeymooning\, Peter gradually realizes that the woman by his side is not his wife. By some cruel twist of fate\, the wedding day kiss caused Rita’s and the old man’s souls to change places. Peter must track down the old man and free his young love’s spirit that is trapped in an aging and diseased body before it’s too late. \n 
URL:https://www.ladysmithcofc.com/events/ladysmith-little-theatre-presents-a-prelude-to-a-kiss/2026-04-23/
LOCATION:BC
END:VEVENT
BEGIN:VEVENT
DTSTART;VALUE=DATE:20260424
DTEND;VALUE=DATE:20260425
DTSTAMP:20260424T031155
CREATED:20250826T193244Z
LAST-MODIFIED:20250826T203044Z
UID:10014701-1776988800-1777075199@www.ladysmithcofc.com
SUMMARY:Ladysmith Little Theatre: Prelude to a Kiss
DESCRIPTION:Running from April 23rd to May 10th 2026 \nDetails: Written by Craig Lucas and directed by Judy Powers. \nEnamored lovers Peter and Rita immediately fall for each other\, and on their wedding day\, a mysterious old man insists on kissing the bride. While honeymooning\, Peter gradually realizes that the woman by his side is not his wife. By some cruel twist of fate\, the wedding day kiss caused Rita’s and the old man’s souls to change places. Peter must track down the old man and free his young love’s spirit that is trapped in an ageing and diseased body before it’s too late.
URL:https://www.ladysmithcofc.com/events/ladysmith-little-theatre-prelude-to-a-kiss/2026-04-24/
LOCATION:Ladysmith Little Theatre
END:VEVENT
BEGIN:VEVENT
DTSTART;TZID=America/Vancouver:20260424T100000
DTEND;TZID=America/Vancouver:20260503T160000
DTSTAMP:20260424T031155
CREATED:20260326T224643Z
LAST-MODIFIED:20260326T225423Z
UID:10015172-1777024800-1777824000@www.ladysmithcofc.com
SUMMARY:Ladysmith Gallery Guest Artist Show: King Richard Brodeur
DESCRIPTION:The Ladysmith Gallery is proud to welcome Richard Brodeur\, affectionately known as King Richard\, for a special Guest Artist Show that bridges the worlds of elite sport\, creativity\, and personal resilience. \nFrom April 24 to May 3\, visitors are invited to experience a powerful collection of original works created by the former NHL goaltender whose career was defined by intensity\, focus\, and pressure—and whose art reflects introspection\, healing\, and forward motion. Brodeur’s paintings explore movement\, memory\, and the emotional landscape of high-performance lives\, offering insight into how creativity can become a vital coping path during and after demanding careers. \nTwo live painting sessions will anchor the exhibition: \n\nFirst Saturday of the show\, April 25th\, 2026\nThe following Wednesday\, April 29th\, 2026\n\nOn these days\, guests can witness Brodeur painting in real time\, engaging directly with the process as stories\, sport\, and self-expression converge on the canvas. \nThis exhibition warmly invites hockey enthusiasts\, sports fans\, and collectors\, as well as anyone curious about life after high-intensity careers—athletes\, first responders\, veterans\, executives\, and creatives alike. Whether you come for the love of the game\, the art\, or the deeper conversation about resilience and reinvention\, this show offers a rare and human experience. \nAll are welcome to step inside\, slow down\, and discover how art can become a powerful ally in navigating life beyond the pressure zone. \n 
URL:https://www.ladysmithcofc.com/events/ladysmith-gallery-guest-artist-show-king-richard-brodeur/
LOCATION:Ladysmith Art Gallery Downtown\, 32 High Street\, Ladysmith\, BC\, V9G 1A4\, Canada
ORGANIZER;CN="Ladysmith Art Gallery":MAILTO:info@ladysmitharts.ca
END:VEVENT
BEGIN:VEVENT
DTSTART;TZID=America/Vancouver:20260424T180000
DTEND;TZID=America/Vancouver:20260424T200000
DTSTAMP:20260424T031155
CREATED:20260316T163522Z
LAST-MODIFIED:20260316T163856Z
UID:10014907-1777053600-1777060800@www.ladysmithcofc.com
SUMMARY:Live Music at the Fox & Hounds: Eric Harper
DESCRIPTION:
URL:https://www.ladysmithcofc.com/events/live-music-at-the-fox-hounds-eric-harper/2026-04-24/
LOCATION:Fox & Hound\, 11 High Street\, Ladysmith \, V9G 1A5\, Canada
END:VEVENT
END:VCALENDAR