BEGIN:VCALENDAR
VERSION:2.0
PRODID:-//Ladysmith Chamber of Commerce - ECPv6.15.20//NONSGML v1.0//EN
CALSCALE:GREGORIAN
METHOD:PUBLISH
X-ORIGINAL-URL:https://www.ladysmithcofc.com
X-WR-CALDESC:Events for Ladysmith Chamber of Commerce
REFRESH-INTERVAL;VALUE=DURATION:PT1H
X-Robots-Tag:noindex
X-PUBLISHED-TTL:PT1H
BEGIN:VTIMEZONE
TZID:America/Vancouver
BEGIN:DAYLIGHT
TZOFFSETFROM:-0800
TZOFFSETTO:-0700
TZNAME:PDT
DTSTART:20230312T100000
END:DAYLIGHT
BEGIN:STANDARD
TZOFFSETFROM:-0700
TZOFFSETTO:-0800
TZNAME:PST
DTSTART:20231105T090000
END:STANDARD
BEGIN:DAYLIGHT
TZOFFSETFROM:-0800
TZOFFSETTO:-0700
TZNAME:PDT
DTSTART:20240310T100000
END:DAYLIGHT
BEGIN:STANDARD
TZOFFSETFROM:-0700
TZOFFSETTO:-0800
TZNAME:PST
DTSTART:20241103T090000
END:STANDARD
BEGIN:DAYLIGHT
TZOFFSETFROM:-0800
TZOFFSETTO:-0700
TZNAME:PDT
DTSTART:20250309T100000
END:DAYLIGHT
BEGIN:STANDARD
TZOFFSETFROM:-0700
TZOFFSETTO:-0800
TZNAME:PST
DTSTART:20251102T090000
END:STANDARD
BEGIN:DAYLIGHT
TZOFFSETFROM:-0800
TZOFFSETTO:-0700
TZNAME:PDT
DTSTART:20260308T100000
END:DAYLIGHT
BEGIN:STANDARD
TZOFFSETFROM:-0700
TZOFFSETTO:-0800
TZNAME:PST
DTSTART:20261101T090000
END:STANDARD
BEGIN:DAYLIGHT
TZOFFSETFROM:-0800
TZOFFSETTO:-0700
TZNAME:PDT
DTSTART:20270314T100000
END:DAYLIGHT
BEGIN:STANDARD
TZOFFSETFROM:-0700
TZOFFSETTO:-0800
TZNAME:PST
DTSTART:20271107T090000
END:STANDARD
BEGIN:DAYLIGHT
TZOFFSETFROM:-0800
TZOFFSETTO:-0700
TZNAME:PDT
DTSTART:20280312T100000
END:DAYLIGHT
BEGIN:STANDARD
TZOFFSETFROM:-0700
TZOFFSETTO:-0800
TZNAME:PST
DTSTART:20281105T090000
END:STANDARD
END:VTIMEZONE
BEGIN:VEVENT
DTSTART;VALUE=DATE:20240501
DTEND;VALUE=DATE:20270502
DTSTAMP:20260424T014932
CREATED:20240501T173908Z
LAST-MODIFIED:20250401T190646Z
UID:10014430-1714521600-1809215999@www.ladysmithcofc.com
SUMMARY:Other Community Event & Theatre Calendars
DESCRIPTION:OTHER COMMUNITY EVENT & THEATRE CALENDARS
URL:https://www.ladysmithcofc.com/events/other-community-event-theatre-calendars/2024-05-01/
LOCATION:BC
END:VEVENT
BEGIN:VEVENT
DTSTART;TZID=America/Vancouver:20241002T100000
DTEND;TZID=America/Vancouver:20241023T160000
DTSTAMP:20260424T014932
CREATED:20240712T185221Z
LAST-MODIFIED:20240712T185221Z
UID:10014463-1727863200-1729699200@www.ladysmithcofc.com
SUMMARY:Ladysmith Art Gallery: Nostalgia
DESCRIPTION:Trek through the retrospective longing of our nostalgic-themed art show featuring paintings\, collages\, sculptures\, pottery\, photography\, and more!
URL:https://www.ladysmithcofc.com/events/ladysmith-art-gallery-nostalgia/
LOCATION:Ladysmith Gallery\, 32 High Street\, Ladysmith\, British Columbia\, Canada
END:VEVENT
BEGIN:VEVENT
DTSTART;TZID=America/Vancouver:20241005T100000
DTEND;TZID=America/Vancouver:20241005T150000
DTSTAMP:20260424T014932
CREATED:20241001T215858Z
LAST-MODIFIED:20241001T215858Z
UID:10013668-1728122400-1728140400@www.ladysmithcofc.com
SUMMARY:Ladysmith Makers Market
DESCRIPTION:
URL:https://www.ladysmithcofc.com/events/ladysmith-makers-market-3/
LOCATION:Eagles Hall\, 921-1st Ave\, Ladysmith \, Canada
END:VEVENT
BEGIN:VEVENT
DTSTART;TZID=America/Vancouver:20241005T190000
DTEND;TZID=America/Vancouver:20241005T190000
DTSTAMP:20260424T014932
CREATED:20241001T221651Z
LAST-MODIFIED:20241001T221651Z
UID:10013673-1728154800-1728154800@www.ladysmithcofc.com
SUMMARY:Get Well Oscar Fundraiser
DESCRIPTION:Join us this Saturday\, October 5th\, at the Fraternal Order of Eagles Hall for the “Get Well Soon” fundraiser in support of Oscar Hanke. \nOscar\, a former Ladysmith baseball umpire and high school improv member\, was seriously injured in a biking accident in Germany and faces a long road to recovery. His mother is a teacher at Ladysmith Secondary School\, further strengthening his ties to the community. He has already undergone multiple surgeries and requires extensive physiotherapy\, which is not covered by his insurance. \nTickets are $25 for non-members or $20 for Eagles members\, and all proceeds go directly to Oscar and his family. Tickets are available at Eagles Hall\, Bayview Brewing Company\, or by calling Heath at 236-333-6233. Let’s come together to help Oscar get the care he needs!
URL:https://www.ladysmithcofc.com/events/get-well-oscar-fundraiser/
LOCATION:BC
END:VEVENT
BEGIN:VEVENT
DTSTART;TZID=America/Vancouver:20241005T193000
DTEND;TZID=America/Vancouver:20241005T213000
DTSTAMP:20260424T014932
CREATED:20240913T205354Z
LAST-MODIFIED:20240913T205611Z
UID:10013654-1728156600-1728163800@www.ladysmithcofc.com
SUMMARY:Ladysmith Little Theatre Presents: Now and Then
DESCRIPTION:
URL:https://www.ladysmithcofc.com/events/ladysmith-little-theatre-presents-now-and-then-2/2024-10-05/
LOCATION:Ladysmith Little Theatre
END:VEVENT
END:VCALENDAR